BEGIN:VCALENDAR
VERSION:2.0
PRODID:-//Gemeinde Eschenau - ECPv6.15.20//NONSGML v1.0//EN
CALSCALE:GREGORIAN
METHOD:PUBLISH
X-WR-CALNAME:Gemeinde Eschenau
X-ORIGINAL-URL:https://eschenau.at
X-WR-CALDESC:Veranstaltungen für Gemeinde Eschenau
REFRESH-INTERVAL;VALUE=DURATION:PT1H
X-Robots-Tag:noindex
X-PUBLISHED-TTL:PT1H
BEGIN:VTIMEZONE
TZID:Europe/Berlin
BEGIN:DAYLIGHT
TZOFFSETFROM:+0100
TZOFFSETTO:+0200
TZNAME:CEST
DTSTART:20250330T010000
END:DAYLIGHT
BEGIN:STANDARD
TZOFFSETFROM:+0200
TZOFFSETTO:+0100
TZNAME:CET
DTSTART:20251026T010000
END:STANDARD
BEGIN:DAYLIGHT
TZOFFSETFROM:+0100
TZOFFSETTO:+0200
TZNAME:CEST
DTSTART:20260329T010000
END:DAYLIGHT
BEGIN:STANDARD
TZOFFSETFROM:+0200
TZOFFSETTO:+0100
TZNAME:CET
DTSTART:20261025T010000
END:STANDARD
BEGIN:DAYLIGHT
TZOFFSETFROM:+0100
TZOFFSETTO:+0200
TZNAME:CEST
DTSTART:20270328T010000
END:DAYLIGHT
BEGIN:STANDARD
TZOFFSETFROM:+0200
TZOFFSETTO:+0100
TZNAME:CET
DTSTART:20271031T010000
END:STANDARD
END:VTIMEZONE
BEGIN:VEVENT
DTSTART;TZID=Europe/Berlin:20260422T130000
DTEND;TZID=Europe/Berlin:20260422T140000
DTSTAMP:20260420T132027
CREATED:20251014T115615Z
LAST-MODIFIED:20251014T115615Z
UID:12967-1776862800-1776866400@eschenau.at
SUMMARY:Mutterberatung
DESCRIPTION:
URL:https://eschenau.at/veranstaltungen/mutterberatung-26-2-2-2/
LOCATION:Gemeindeamt Eschenau\, Hauptplatz 1\, Eschenau\, 3153
CATEGORIES:Mutterberatung
ATTACH;FMTTYPE=image/jpeg:https://eschenau.at/wp-content/uploads/2020/04/wappen-e1765963503667.jpg
END:VEVENT
BEGIN:VEVENT
DTSTART;TZID=Europe/Berlin:20260426T103000
DTEND;TZID=Europe/Berlin:20260426T103000
DTSTAMP:20260420T132027
CREATED:20250330T061224Z
LAST-MODIFIED:20260330T061408Z
UID:12209-1777199400-1777199400@eschenau.at
SUMMARY:Baumblütenwanderung
DESCRIPTION:
URL:https://eschenau.at/veranstaltungen/baumbluetenwanderung-2/
LOCATION:Gemeindevorplatz\, Hauptplatz 1\, Eschenau\, NÖ\, 3153
CATEGORIES:Dorferneuerung
ATTACH;FMTTYPE=image/png:https://eschenau.at/wp-content/uploads/2018/02/Beitragsbild-Doern.png
END:VEVENT
BEGIN:VEVENT
DTSTART;TZID=Europe/Berlin:20260508T100000
DTEND;TZID=Europe/Berlin:20260508T170000
DTSTAMP:20260420T132027
CREATED:20251014T122219Z
LAST-MODIFIED:20251014T122219Z
UID:13014-1778234400-1778259600@eschenau.at
SUMMARY:Sperr- und Sondermüll
DESCRIPTION:
URL:https://eschenau.at/veranstaltungen/sperr-und-sondermuell-26-2-2-2/
LOCATION:Sammelstelle in Rotheau\, Rotheau 33\, Eschenau\, Niederösterreich\, 3153\, Österreich
CATEGORIES:Sperr- und Sondermüll
ATTACH;FMTTYPE=image/jpeg:https://eschenau.at/wp-content/uploads/2020/04/wappen-e1765963503667.jpg
END:VEVENT
BEGIN:VEVENT
DTSTART;TZID=Europe/Berlin:20260518T100000
DTEND;TZID=Europe/Berlin:20260518T130000
DTSTAMP:20260420T132027
CREATED:20251014T123020Z
LAST-MODIFIED:20260212T060207Z
UID:13050-1779098400-1779109200@eschenau.at
SUMMARY:Sperr- und Sondermüll entfällt wegen Schulung
DESCRIPTION:
URL:https://eschenau.at/veranstaltungen/sperr-und-sondermuell-26-3-2-2-2-2/
LOCATION:Sammelstelle in Rotheau\, Rotheau 33\, Eschenau\, Niederösterreich\, 3153\, Österreich
CATEGORIES:Sperr- und Sondermüll
ATTACH;FMTTYPE=image/jpeg:https://eschenau.at/wp-content/uploads/2020/04/wappen-e1765963503667.jpg
END:VEVENT
BEGIN:VEVENT
DTSTART;TZID=Europe/Berlin:20260527T130000
DTEND;TZID=Europe/Berlin:20260527T140000
DTSTAMP:20260420T132027
CREATED:20251014T115642Z
LAST-MODIFIED:20251014T115642Z
UID:12969-1779886800-1779890400@eschenau.at
SUMMARY:Mutterberatung
DESCRIPTION:
URL:https://eschenau.at/veranstaltungen/mutterberatung-26-2-2-2-2/
LOCATION:Gemeindeamt Eschenau\, Hauptplatz 1\, Eschenau\, 3153
CATEGORIES:Mutterberatung
ATTACH;FMTTYPE=image/jpeg:https://eschenau.at/wp-content/uploads/2020/04/wappen-e1765963503667.jpg
END:VEVENT
BEGIN:VEVENT
DTSTART;TZID=Europe/Berlin:20260605T100000
DTEND;TZID=Europe/Berlin:20260605T170000
DTSTAMP:20260420T132027
CREATED:20251014T122245Z
LAST-MODIFIED:20251014T122245Z
UID:13017-1780653600-1780678800@eschenau.at
SUMMARY:Sperr- und Sondermüll
DESCRIPTION:
URL:https://eschenau.at/veranstaltungen/sperr-und-sondermuell-26-2-2-2-2/
LOCATION:Sammelstelle in Rotheau\, Rotheau 33\, Eschenau\, Niederösterreich\, 3153\, Österreich
CATEGORIES:Sperr- und Sondermüll
ATTACH;FMTTYPE=image/jpeg:https://eschenau.at/wp-content/uploads/2020/04/wappen-e1765963503667.jpg
END:VEVENT
BEGIN:VEVENT
DTSTART;TZID=Europe/Berlin:20260615T100000
DTEND;TZID=Europe/Berlin:20260615T130000
DTSTAMP:20260420T132027
CREATED:20251014T123033Z
LAST-MODIFIED:20251014T123033Z
UID:13053-1781517600-1781528400@eschenau.at
SUMMARY:Sperr- und Sondermüll
DESCRIPTION:
URL:https://eschenau.at/veranstaltungen/sperr-und-sondermuell-26-3-2-2-2-2-2/
LOCATION:Sammelstelle in Rotheau\, Rotheau 33\, Eschenau\, Niederösterreich\, 3153\, Österreich
CATEGORIES:Sperr- und Sondermüll
ATTACH;FMTTYPE=image/jpeg:https://eschenau.at/wp-content/uploads/2020/04/wappen-e1765963503667.jpg
END:VEVENT
BEGIN:VEVENT
DTSTART;TZID=Europe/Berlin:20260624T130000
DTEND;TZID=Europe/Berlin:20260624T140000
DTSTAMP:20260420T132027
CREATED:20251014T115658Z
LAST-MODIFIED:20251014T115658Z
UID:12973-1782306000-1782309600@eschenau.at
SUMMARY:Mutterberatung
DESCRIPTION:
URL:https://eschenau.at/veranstaltungen/mutterberatung-26-2-2-2-2-2/
LOCATION:Gemeindeamt Eschenau\, Hauptplatz 1\, Eschenau\, 3153
CATEGORIES:Mutterberatung
ATTACH;FMTTYPE=image/jpeg:https://eschenau.at/wp-content/uploads/2020/04/wappen-e1765963503667.jpg
END:VEVENT
BEGIN:VEVENT
DTSTART;TZID=Europe/Berlin:20260703T100000
DTEND;TZID=Europe/Berlin:20260703T170000
DTSTAMP:20260420T132027
CREATED:20251014T122304Z
LAST-MODIFIED:20251014T122304Z
UID:13020-1783072800-1783098000@eschenau.at
SUMMARY:Sperr- und Sondermüll
DESCRIPTION:
URL:https://eschenau.at/veranstaltungen/sperr-und-sondermuell-26-2-2-2-2-2/
LOCATION:Sammelstelle in Rotheau\, Rotheau 33\, Eschenau\, Niederösterreich\, 3153\, Österreich
CATEGORIES:Sperr- und Sondermüll
ATTACH;FMTTYPE=image/jpeg:https://eschenau.at/wp-content/uploads/2020/04/wappen-e1765963503667.jpg
END:VEVENT
BEGIN:VEVENT
DTSTART;TZID=Europe/Berlin:20260720T100000
DTEND;TZID=Europe/Berlin:20260720T130000
DTSTAMP:20260420T132027
CREATED:20251014T123049Z
LAST-MODIFIED:20251014T123049Z
UID:13056-1784541600-1784552400@eschenau.at
SUMMARY:Sperr- und Sondermüll
DESCRIPTION:
URL:https://eschenau.at/veranstaltungen/sperr-und-sondermuell-26-3-2-2-2-2-2-2/
LOCATION:Sammelstelle in Rotheau\, Rotheau 33\, Eschenau\, Niederösterreich\, 3153\, Österreich
CATEGORIES:Sperr- und Sondermüll
ATTACH;FMTTYPE=image/jpeg:https://eschenau.at/wp-content/uploads/2020/04/wappen-e1765963503667.jpg
END:VEVENT
BEGIN:VEVENT
DTSTART;TZID=Europe/Berlin:20260722T130000
DTEND;TZID=Europe/Berlin:20260722T140000
DTSTAMP:20260420T132027
CREATED:20251014T115715Z
LAST-MODIFIED:20251014T115715Z
UID:12976-1784725200-1784728800@eschenau.at
SUMMARY:Mutterberatung
DESCRIPTION:
URL:https://eschenau.at/veranstaltungen/mutterberatung-26-2-2-2-2-2-2/
LOCATION:Gemeindeamt Eschenau\, Hauptplatz 1\, Eschenau\, 3153
CATEGORIES:Mutterberatung
ATTACH;FMTTYPE=image/jpeg:https://eschenau.at/wp-content/uploads/2020/04/wappen-e1765963503667.jpg
END:VEVENT
BEGIN:VEVENT
DTSTART;TZID=Europe/Berlin:20260807T100000
DTEND;TZID=Europe/Berlin:20260807T170000
DTSTAMP:20260420T132027
CREATED:20251014T122317Z
LAST-MODIFIED:20251014T122317Z
UID:13023-1786096800-1786122000@eschenau.at
SUMMARY:Sperr- und Sondermüll
DESCRIPTION:
URL:https://eschenau.at/veranstaltungen/sperr-und-sondermuell-26-2-2-2-2-2-2/
LOCATION:Sammelstelle in Rotheau\, Rotheau 33\, Eschenau\, Niederösterreich\, 3153\, Österreich
CATEGORIES:Sperr- und Sondermüll
ATTACH;FMTTYPE=image/jpeg:https://eschenau.at/wp-content/uploads/2020/04/wappen-e1765963503667.jpg
END:VEVENT
BEGIN:VEVENT
DTSTART;TZID=Europe/Berlin:20260817T100000
DTEND;TZID=Europe/Berlin:20260817T130000
DTSTAMP:20260420T132027
CREATED:20251014T123059Z
LAST-MODIFIED:20251014T123059Z
UID:13059-1786960800-1786971600@eschenau.at
SUMMARY:Sperr- und Sondermüll
DESCRIPTION:
URL:https://eschenau.at/veranstaltungen/sperr-und-sondermuell-26-3-2-2-2-2-2-2-2/
LOCATION:Sammelstelle in Rotheau\, Rotheau 33\, Eschenau\, Niederösterreich\, 3153\, Österreich
CATEGORIES:Sperr- und Sondermüll
ATTACH;FMTTYPE=image/jpeg:https://eschenau.at/wp-content/uploads/2020/04/wappen-e1765963503667.jpg
END:VEVENT
BEGIN:VEVENT
DTSTART;TZID=Europe/Berlin:20260904T100000
DTEND;TZID=Europe/Berlin:20260904T170000
DTSTAMP:20260420T132027
CREATED:20251014T123312Z
LAST-MODIFIED:20251014T123312Z
UID:13075-1788516000-1788541200@eschenau.at
SUMMARY:Sperr- und Sondermüll
DESCRIPTION:
URL:https://eschenau.at/veranstaltungen/sperr-und-sondermuell-26-2-2-2-2-2-2-2-3/
LOCATION:Sammelstelle in Rotheau\, Rotheau 33\, Eschenau\, Niederösterreich\, 3153\, Österreich
CATEGORIES:Sperr- und Sondermüll
ATTACH;FMTTYPE=image/jpeg:https://eschenau.at/wp-content/uploads/2020/04/wappen-e1765963503667.jpg
END:VEVENT
BEGIN:VEVENT
DTSTART;TZID=Europe/Berlin:20260921T100000
DTEND;TZID=Europe/Berlin:20260921T130000
DTSTAMP:20260420T132027
CREATED:20251014T123112Z
LAST-MODIFIED:20251014T123112Z
UID:13062-1789984800-1789995600@eschenau.at
SUMMARY:Sperr- und Sondermüll
DESCRIPTION:
URL:https://eschenau.at/veranstaltungen/sperr-und-sondermuell-26-3-2-2-2-2-2-2-2-2/
LOCATION:Sammelstelle in Rotheau\, Rotheau 33\, Eschenau\, Niederösterreich\, 3153\, Österreich
CATEGORIES:Sperr- und Sondermüll
ATTACH;FMTTYPE=image/jpeg:https://eschenau.at/wp-content/uploads/2020/04/wappen-e1765963503667.jpg
END:VEVENT
BEGIN:VEVENT
DTSTART;TZID=Europe/Berlin:20260923T130000
DTEND;TZID=Europe/Berlin:20260923T140000
DTSTAMP:20260420T132027
CREATED:20251014T115734Z
LAST-MODIFIED:20251014T115734Z
UID:12979-1790168400-1790172000@eschenau.at
SUMMARY:Mutterberatung
DESCRIPTION:
URL:https://eschenau.at/veranstaltungen/mutterberatung-26-2-2-2-2-2-2-2/
LOCATION:Gemeindeamt Eschenau\, Hauptplatz 1\, Eschenau\, 3153
CATEGORIES:Mutterberatung
ATTACH;FMTTYPE=image/jpeg:https://eschenau.at/wp-content/uploads/2020/04/wappen-e1765963503667.jpg
END:VEVENT
BEGIN:VEVENT
DTSTART;TZID=Europe/Berlin:20261002T100000
DTEND;TZID=Europe/Berlin:20261002T170000
DTSTAMP:20260420T132027
CREATED:20251014T122333Z
LAST-MODIFIED:20251014T122350Z
UID:13026-1790935200-1790960400@eschenau.at
SUMMARY:Sperr- und Sondermüll
DESCRIPTION:
URL:https://eschenau.at/veranstaltungen/sperr-und-sondermuell-26-2-2-2-2-2-2-2/
LOCATION:Sammelstelle in Rotheau\, Rotheau 33\, Eschenau\, Niederösterreich\, 3153\, Österreich
CATEGORIES:Sperr- und Sondermüll
ATTACH;FMTTYPE=image/jpeg:https://eschenau.at/wp-content/uploads/2020/04/wappen-e1765963503667.jpg
END:VEVENT
BEGIN:VEVENT
DTSTART;TZID=Europe/Berlin:20261019T100000
DTEND;TZID=Europe/Berlin:20261019T130000
DTSTAMP:20260420T132027
CREATED:20251014T123125Z
LAST-MODIFIED:20251014T123125Z
UID:13065-1792404000-1792414800@eschenau.at
SUMMARY:Sperr- und Sondermüll
DESCRIPTION:
URL:https://eschenau.at/veranstaltungen/sperr-und-sondermuell-26-3-2-2-2-2-2-2-2-2-2/
LOCATION:Sammelstelle in Rotheau\, Rotheau 33\, Eschenau\, Niederösterreich\, 3153\, Österreich
CATEGORIES:Sperr- und Sondermüll
ATTACH;FMTTYPE=image/jpeg:https://eschenau.at/wp-content/uploads/2020/04/wappen-e1765963503667.jpg
END:VEVENT
BEGIN:VEVENT
DTSTART;TZID=Europe/Berlin:20261028T130000
DTEND;TZID=Europe/Berlin:20261028T140000
DTSTAMP:20260420T132027
CREATED:20251014T115749Z
LAST-MODIFIED:20251014T115749Z
UID:12982-1793192400-1793196000@eschenau.at
SUMMARY:Mutterberatung
DESCRIPTION:
URL:https://eschenau.at/veranstaltungen/mutterberatung-26-2-2-2-2-2-2-2-2/
LOCATION:Gemeindeamt Eschenau\, Hauptplatz 1\, Eschenau\, 3153
CATEGORIES:Mutterberatung
ATTACH;FMTTYPE=image/jpeg:https://eschenau.at/wp-content/uploads/2020/04/wappen-e1765963503667.jpg
END:VEVENT
BEGIN:VEVENT
DTSTART;TZID=Europe/Berlin:20261106T100000
DTEND;TZID=Europe/Berlin:20261106T170000
DTSTAMP:20260420T132027
CREATED:20251014T122410Z
LAST-MODIFIED:20251014T122410Z
UID:13030-1793959200-1793984400@eschenau.at
SUMMARY:Sperr- und Sondermüll
DESCRIPTION:
URL:https://eschenau.at/veranstaltungen/sperr-und-sondermuell-26-2-2-2-2-2-2-2-2/
LOCATION:Sammelstelle in Rotheau\, Rotheau 33\, Eschenau\, Niederösterreich\, 3153\, Österreich
CATEGORIES:Sperr- und Sondermüll
ATTACH;FMTTYPE=image/jpeg:https://eschenau.at/wp-content/uploads/2020/04/wappen-e1765963503667.jpg
END:VEVENT
BEGIN:VEVENT
DTSTART;TZID=Europe/Berlin:20261116T100000
DTEND;TZID=Europe/Berlin:20261116T130000
DTSTAMP:20260420T132027
CREATED:20251014T123134Z
LAST-MODIFIED:20251014T123134Z
UID:13068-1794823200-1794834000@eschenau.at
SUMMARY:Sperr- und Sondermüll
DESCRIPTION:
URL:https://eschenau.at/veranstaltungen/sperr-und-sondermuell-26-3-2-2-2-2-2-2-2-2-2-2/
LOCATION:Sammelstelle in Rotheau\, Rotheau 33\, Eschenau\, Niederösterreich\, 3153\, Österreich
CATEGORIES:Sperr- und Sondermüll
ATTACH;FMTTYPE=image/jpeg:https://eschenau.at/wp-content/uploads/2020/04/wappen-e1765963503667.jpg
END:VEVENT
BEGIN:VEVENT
DTSTART;TZID=Europe/Berlin:20261125T130000
DTEND;TZID=Europe/Berlin:20261125T140000
DTSTAMP:20260420T132027
CREATED:20251014T115803Z
LAST-MODIFIED:20251014T115803Z
UID:12985-1795611600-1795615200@eschenau.at
SUMMARY:Mutterberatung
DESCRIPTION:
URL:https://eschenau.at/veranstaltungen/mutterberatung-26-2-2-2-2-2-2-2-2-2/
LOCATION:Gemeindeamt Eschenau\, Hauptplatz 1\, Eschenau\, 3153
CATEGORIES:Mutterberatung
ATTACH;FMTTYPE=image/jpeg:https://eschenau.at/wp-content/uploads/2020/04/wappen-e1765963503667.jpg
END:VEVENT
BEGIN:VEVENT
DTSTART;TZID=Europe/Berlin:20261204T100000
DTEND;TZID=Europe/Berlin:20261204T170000
DTSTAMP:20260420T132027
CREATED:20251014T122425Z
LAST-MODIFIED:20251014T122425Z
UID:13034-1796378400-1796403600@eschenau.at
SUMMARY:Sperr- und Sondermüll
DESCRIPTION:
URL:https://eschenau.at/veranstaltungen/sperr-und-sondermuell-26-2-2-2-2-2-2-2-2-2/
LOCATION:Sammelstelle in Rotheau\, Rotheau 33\, Eschenau\, Niederösterreich\, 3153\, Österreich
CATEGORIES:Sperr- und Sondermüll
ATTACH;FMTTYPE=image/jpeg:https://eschenau.at/wp-content/uploads/2020/04/wappen-e1765963503667.jpg
END:VEVENT
BEGIN:VEVENT
DTSTART;TZID=Europe/Berlin:20261221T100000
DTEND;TZID=Europe/Berlin:20261221T130000
DTSTAMP:20260420T132027
CREATED:20251014T123147Z
LAST-MODIFIED:20251014T123147Z
UID:13071-1797847200-1797858000@eschenau.at
SUMMARY:Sperr- und Sondermüll
DESCRIPTION:
URL:https://eschenau.at/veranstaltungen/sperr-und-sondermuell-26-3-2-2-2-2-2-2-2-2-2-2-2/
LOCATION:Sammelstelle in Rotheau\, Rotheau 33\, Eschenau\, Niederösterreich\, 3153\, Österreich
CATEGORIES:Sperr- und Sondermüll
ATTACH;FMTTYPE=image/jpeg:https://eschenau.at/wp-content/uploads/2020/04/wappen-e1765963503667.jpg
END:VEVENT
BEGIN:VEVENT
DTSTART;TZID=Europe/Berlin:20261223T130000
DTEND;TZID=Europe/Berlin:20261223T140000
DTSTAMP:20260420T132027
CREATED:20251205T075941Z
LAST-MODIFIED:20260129T071241Z
UID:13426-1798030800-1798034400@eschenau.at
SUMMARY:Mutterberatung
DESCRIPTION:
URL:https://eschenau.at/veranstaltungen/mutterberatung-26-3/
LOCATION:Gemeindeamt Eschenau\, Hauptplatz 1\, Eschenau\, 3153
CATEGORIES:Mutterberatung
ATTACH;FMTTYPE=image/jpeg:https://eschenau.at/wp-content/uploads/2020/04/wappen-e1765963503667.jpg
END:VEVENT
END:VCALENDAR