BEGIN:VCALENDAR
VERSION:2.0
PRODID:-//Gemeinde Eschenau - ECPv6.15.20//NONSGML v1.0//EN
CALSCALE:GREGORIAN
METHOD:PUBLISH
X-WR-CALNAME:Gemeinde Eschenau
X-ORIGINAL-URL:https://eschenau.at
X-WR-CALDESC:Veranstaltungen für Gemeinde Eschenau
REFRESH-INTERVAL;VALUE=DURATION:PT1H
X-Robots-Tag:noindex
X-PUBLISHED-TTL:PT1H
BEGIN:VTIMEZONE
TZID:Europe/Berlin
BEGIN:DAYLIGHT
TZOFFSETFROM:+0100
TZOFFSETTO:+0200
TZNAME:CEST
DTSTART:20230326T010000
END:DAYLIGHT
BEGIN:STANDARD
TZOFFSETFROM:+0200
TZOFFSETTO:+0100
TZNAME:CET
DTSTART:20231029T010000
END:STANDARD
BEGIN:DAYLIGHT
TZOFFSETFROM:+0100
TZOFFSETTO:+0200
TZNAME:CEST
DTSTART:20240331T010000
END:DAYLIGHT
BEGIN:STANDARD
TZOFFSETFROM:+0200
TZOFFSETTO:+0100
TZNAME:CET
DTSTART:20241027T010000
END:STANDARD
BEGIN:DAYLIGHT
TZOFFSETFROM:+0100
TZOFFSETTO:+0200
TZNAME:CEST
DTSTART:20250330T010000
END:DAYLIGHT
BEGIN:STANDARD
TZOFFSETFROM:+0200
TZOFFSETTO:+0100
TZNAME:CET
DTSTART:20251026T010000
END:STANDARD
END:VTIMEZONE
BEGIN:VEVENT
DTSTART;TZID=Europe/Berlin:20240501T100000
DTEND;TZID=Europe/Berlin:20240501T100000
DTSTAMP:20260422T161105
CREATED:20230404T113106Z
LAST-MODIFIED:20240429T092253Z
UID:7867-1714557600-1714557600@eschenau.at
SUMMARY:Maifest der Landjugend Eschenau
DESCRIPTION:
URL:https://eschenau.at/veranstaltungen/maifest/
LOCATION:Volleyballplatz Sonnleiten\, Sonnleiten 41\, Eschenau\, 3153
CATEGORIES:Landjugend Eschenau
ATTACH;FMTTYPE=image/png:https://eschenau.at/wp-content/uploads/2023/04/lj-logo_bildmarke_4c_transparenter_Hintergrund.png
END:VEVENT
BEGIN:VEVENT
DTSTART;TZID=Europe/Berlin:20240503T100000
DTEND;TZID=Europe/Berlin:20240503T170000
DTSTAMP:20260422T161105
CREATED:20230927T075708Z
LAST-MODIFIED:20230927T075708Z
UID:8853-1714730400-1714755600@eschenau.at
SUMMARY:Sperr- und Sondermüll
DESCRIPTION:
URL:https://eschenau.at/veranstaltungen/sperr-und-sondermuell-9/
LOCATION:Sammelstelle in Rotheau\, Rotheau 33\, Eschenau\, Niederösterreich\, 3153\, Österreich
CATEGORIES:Sperr- und Sondermüll
ATTACH;FMTTYPE=image/jpeg:https://eschenau.at/wp-content/uploads/2020/04/wappen-e1765963503667.jpg
END:VEVENT
BEGIN:VEVENT
DTSTART;TZID=Europe/Berlin:20240504T100000
DTEND;TZID=Europe/Berlin:20240504T100000
DTSTAMP:20260422T161105
CREATED:20240403T063819Z
LAST-MODIFIED:20240429T092511Z
UID:10167-1714816800-1714816800@eschenau.at
SUMMARY:Musikschule - "Tag der offenen Bühne"
DESCRIPTION:
URL:https://eschenau.at/veranstaltungen/musikschule-tag-der-offenen-buehne/
LOCATION:Stift Lilienfeld\, Dormitorium\, Klosterrotte 1\, Lilienfeld\, Niederösterreich\, 3180
CATEGORIES:Gemeindeverband der Musikschule Lilienfeld
ATTACH;FMTTYPE=image/png:https://eschenau.at/wp-content/uploads/2023/04/Logo-MS.png
END:VEVENT
BEGIN:VEVENT
DTSTART;TZID=Europe/Berlin:20240505T090000
DTEND;TZID=Europe/Berlin:20240505T090000
DTSTAMP:20260422T161105
CREATED:20230404T113353Z
LAST-MODIFIED:20240429T092551Z
UID:7872-1714899600-1714899600@eschenau.at
SUMMARY:Florianimesse mit anschließendem Frühschoppen der FF Rotheau
DESCRIPTION:
URL:https://eschenau.at/veranstaltungen/florianimesse-mit-anschliessendem-fruehschoppen/
LOCATION:Feuerwehrhaus Rotheau\, Anton Haidinger Siedlung 11\, Eschenau\, 3153
CATEGORIES:Freiwillige Feuerwehr Eschenau,Pfarre Eschenau
ATTACH;FMTTYPE=image/png:https://eschenau.at/wp-content/uploads/2017/07/Feuerwehr-Logo.png
END:VEVENT
BEGIN:VEVENT
DTSTART;TZID=Europe/Berlin:20240509T100000
DTEND;TZID=Europe/Berlin:20240509T100000
DTSTAMP:20260422T161105
CREATED:20231030T070113Z
LAST-MODIFIED:20240429T092625Z
UID:9083-1715248800-1715248800@eschenau.at
SUMMARY:Buchbergmesse
DESCRIPTION:
URL:https://eschenau.at/veranstaltungen/buchbergmesse-6/
LOCATION:Buchberg\, Rosenöd 1\, Eschenau\, 3153\, Österreich
CATEGORIES:Kameradschaftsbund
ATTACH;FMTTYPE=image/jpeg:https://eschenau.at/wp-content/uploads/2017/05/Kameradschaftsbund-Logo.jpg
END:VEVENT
BEGIN:VEVENT
DTSTART;TZID=Europe/Berlin:20240511T120000
DTEND;TZID=Europe/Berlin:20240511T120000
DTSTAMP:20260422T161105
CREATED:20240506T113629Z
LAST-MODIFIED:20240506T113629Z
UID:10374-1715428800-1715428800@eschenau.at
SUMMARY:ÖTSV - KIDS - E - CUP
DESCRIPTION:
URL:https://eschenau.at/veranstaltungen/oetsv-kids-e-cup/
LOCATION:Trainingsgelände Trial Team Traisental\, Zufahrt bei Rotheau 23\, Eschenau\, 3153
CATEGORIES:Trial Team Traisental
ATTACH;FMTTYPE=image/jpeg:https://eschenau.at/wp-content/uploads/2024/05/TrialTeamTraisental.jpg
END:VEVENT
BEGIN:VEVENT
DTSTART;TZID=Europe/Berlin:20240511T170000
DTEND;TZID=Europe/Berlin:20240511T170000
DTSTAMP:20260422T161105
CREATED:20240429T082942Z
LAST-MODIFIED:20240429T082942Z
UID:10310-1715446800-1715446800@eschenau.at
SUMMARY:1. NAKUKU FEST
DESCRIPTION:Programm:\n \nTeilnehmende Künstler:
URL:https://eschenau.at/veranstaltungen/1-nakuku-fest/
LOCATION:Villa Willixhofer\, Steubach 33\, Eschenau\, 3153
CATEGORIES:NAKUKU
ATTACH;FMTTYPE=image/jpeg:https://eschenau.at/wp-content/uploads/2023/11/Villa-Willixhofer.jpg
ORGANIZER;CN="NAKUKU":MAILTO:willixhofer@gmx.at
END:VEVENT
BEGIN:VEVENT
DTSTART;TZID=Europe/Berlin:20240512T100000
DTEND;TZID=Europe/Berlin:20240512T100000
DTSTAMP:20260422T161105
CREATED:20240506T113732Z
LAST-MODIFIED:20240506T113732Z
UID:10384-1715508000-1715508000@eschenau.at
SUMMARY:ÖTSV - KIDS - E - CUP
DESCRIPTION:
URL:https://eschenau.at/veranstaltungen/oetsv-kids-e-cup-2/
LOCATION:Trainingsgelände Trial Team Traisental\, Zufahrt bei Rotheau 23\, Eschenau\, 3153
CATEGORIES:Trial Team Traisental
ATTACH;FMTTYPE=image/jpeg:https://eschenau.at/wp-content/uploads/2024/05/TrialTeamTraisental.jpg
END:VEVENT
BEGIN:VEVENT
DTSTART;TZID=Europe/Berlin:20240512T140000
DTEND;TZID=Europe/Berlin:20240512T140000
DTSTAMP:20260422T161105
CREATED:20240429T083010Z
LAST-MODIFIED:20240429T083010Z
UID:10318-1715522400-1715522400@eschenau.at
SUMMARY:1. NAKUKU FEST
DESCRIPTION:Programm:\n \nTeilnehmende Künstler:
URL:https://eschenau.at/veranstaltungen/1-nakuku-fest-2/
LOCATION:Villa Willixhofer\, Steubach 33\, Eschenau\, 3153
CATEGORIES:NAKUKU
ATTACH;FMTTYPE=image/jpeg:https://eschenau.at/wp-content/uploads/2023/11/Villa-Willixhofer.jpg
ORGANIZER;CN="NAKUKU":MAILTO:willixhofer@gmx.at
END:VEVENT
BEGIN:VEVENT
DTSTART;TZID=Europe/Berlin:20240516T190000
DTEND;TZID=Europe/Berlin:20240516T190000
DTSTAMP:20260422T161105
CREATED:20240507T103409Z
LAST-MODIFIED:20240507T103524Z
UID:10390-1715886000-1715886000@eschenau.at
SUMMARY:Bandabend
DESCRIPTION:
URL:https://eschenau.at/veranstaltungen/bandabend/
LOCATION:Salettl\, Moti’s Strandbar Lilienfeld\, Dörflstraße 6/8\, Lilienfeld\, 3180\, Österreich
CATEGORIES:Gemeindeverband der Musikschule Lilienfeld
ATTACH;FMTTYPE=image/png:https://eschenau.at/wp-content/uploads/2023/04/Logo-MS.png
END:VEVENT
BEGIN:VEVENT
DTSTART;TZID=Europe/Berlin:20240517T143000
DTEND;TZID=Europe/Berlin:20240517T143000
DTSTAMP:20260422T161105
CREATED:20240322T090151Z
LAST-MODIFIED:20240429T092722Z
UID:10114-1715956200-1715956200@eschenau.at
SUMMARY:Eröffnung Spielplatz Sonnleiten
DESCRIPTION:
URL:https://eschenau.at/veranstaltungen/eroeffnung-spielplatz-sonnleiten/
LOCATION:Spielplatz Sonnleiten\, Sonnleiten 43\, Eschenau\, Niederösterreich\, 3153
CATEGORIES:Gemeinde Eschenau
ATTACH;FMTTYPE=image/jpeg:https://eschenau.at/wp-content/uploads/2020/04/wappen-e1765963503667.jpg
END:VEVENT
BEGIN:VEVENT
DTSTART;TZID=Europe/Berlin:20240517T150000
DTEND;TZID=Europe/Berlin:20240517T170000
DTSTAMP:20260422T161105
CREATED:20240515T095624Z
LAST-MODIFIED:20240515T095624Z
UID:10409-1715958000-1715965200@eschenau.at
SUMMARY:Reparatur Café Lilienfeld
DESCRIPTION:
URL:https://eschenau.at/veranstaltungen/reparatur-cafe-lilienfeld/
LOCATION:Gemeindeamt Lilienfeld\, Dörflstraße 4\, Lilienfeld\, 3180
CATEGORIES:Klima- und Energie-Modellregion Traisen-Gölsental
ATTACH;FMTTYPE=image/png:https://eschenau.at/wp-content/uploads/2024/05/kem_biglogo.png
END:VEVENT
BEGIN:VEVENT
DTSTART;TZID=Europe/Berlin:20240518T180000
DTEND;TZID=Europe/Berlin:20240518T180000
DTSTAMP:20260422T161105
CREATED:20240429T083051Z
LAST-MODIFIED:20240429T083051Z
UID:10321-1716055200-1716055200@eschenau.at
SUMMARY:1. NAKUKU FEST
DESCRIPTION:Programm:\n \nTeilnehmende Künstler:
URL:https://eschenau.at/veranstaltungen/1-nakuku-fest-3/
LOCATION:Villa Willixhofer\, Steubach 33\, Eschenau\, 3153
CATEGORIES:NAKUKU
ATTACH;FMTTYPE=image/jpeg:https://eschenau.at/wp-content/uploads/2023/11/Villa-Willixhofer.jpg
ORGANIZER;CN="NAKUKU":MAILTO:willixhofer@gmx.at
END:VEVENT
BEGIN:VEVENT
DTSTART;TZID=Europe/Berlin:20240519T100000
DTEND;TZID=Europe/Berlin:20240519T100000
DTSTAMP:20260422T161105
CREATED:20240313T141404Z
LAST-MODIFIED:20240429T092759Z
UID:9949-1716112800-1716112800@eschenau.at
SUMMARY:Pfingstfrühschoppen
DESCRIPTION:
URL:https://eschenau.at/veranstaltungen/feuerwehrfruehschoppen/
LOCATION:Feuerwehrhaus Eschenau\, Hauptplatz 2\, Eschenau\, NÖ\, 3153
CATEGORIES:Freiwillige Feuerwehr Eschenau
ATTACH;FMTTYPE=image/png:https://eschenau.at/wp-content/uploads/2017/07/Feuerwehr-Logo.png
END:VEVENT
BEGIN:VEVENT
DTSTART;TZID=Europe/Berlin:20240519T140000
DTEND;TZID=Europe/Berlin:20240519T140000
DTSTAMP:20260422T161105
CREATED:20240429T083121Z
LAST-MODIFIED:20240429T083121Z
UID:10324-1716127200-1716127200@eschenau.at
SUMMARY:1. NAKUKU FEST
DESCRIPTION:Programm:\n \nTeilnehmende Künstler:
URL:https://eschenau.at/veranstaltungen/1-nakuku-fest-4/
LOCATION:Villa Willixhofer\, Steubach 33\, Eschenau\, 3153
CATEGORIES:NAKUKU
ATTACH;FMTTYPE=image/jpeg:https://eschenau.at/wp-content/uploads/2023/11/Villa-Willixhofer.jpg
ORGANIZER;CN="NAKUKU":MAILTO:willixhofer@gmx.at
END:VEVENT
BEGIN:VEVENT
DTSTART;TZID=Europe/Berlin:20240522T130000
DTEND;TZID=Europe/Berlin:20240522T140000
DTSTAMP:20260422T161105
CREATED:20231127T103153Z
LAST-MODIFIED:20231127T103153Z
UID:9371-1716382800-1716386400@eschenau.at
SUMMARY:Mutterberatung
DESCRIPTION:
URL:https://eschenau.at/veranstaltungen/mutterberatung-4-11-11/
LOCATION:Gemeindeamt Eschenau\, Hauptplatz 1\, Eschenau\, 3153
CATEGORIES:Mutterberatung
ATTACH;FMTTYPE=image/jpeg:https://eschenau.at/wp-content/uploads/2020/04/wappen-e1765963503667.jpg
END:VEVENT
BEGIN:VEVENT
DTSTART;TZID=Europe/Berlin:20240525T140000
DTEND;TZID=Europe/Berlin:20240525T140000
DTSTAMP:20260422T161105
CREATED:20240322T091530Z
LAST-MODIFIED:20240524T054440Z
UID:10119-1716645600-1716645600@eschenau.at
SUMMARY:Familienfest des Elternvereines
DESCRIPTION:
URL:https://eschenau.at/veranstaltungen/familienfest-des-elternvereines/
LOCATION:Spielplatz Sonnleiten\, Sonnleiten 43\, Eschenau\, Niederösterreich\, 3153
CATEGORIES:Elternverein der Volksschule
END:VEVENT
BEGIN:VEVENT
DTSTART;TZID=Europe/Berlin:20240525T180000
DTEND;TZID=Europe/Berlin:20240525T180000
DTSTAMP:20260422T161105
CREATED:20240429T083151Z
LAST-MODIFIED:20240429T083151Z
UID:10327-1716660000-1716660000@eschenau.at
SUMMARY:1. NAKUKU FEST
DESCRIPTION:Programm:\n \nTeilnehmende Künstler:
URL:https://eschenau.at/veranstaltungen/1-nakuku-fest-5/
LOCATION:Villa Willixhofer\, Steubach 33\, Eschenau\, 3153
CATEGORIES:NAKUKU
ATTACH;FMTTYPE=image/jpeg:https://eschenau.at/wp-content/uploads/2023/11/Villa-Willixhofer.jpg
ORGANIZER;CN="NAKUKU":MAILTO:willixhofer@gmx.at
END:VEVENT
BEGIN:VEVENT
DTSTART;TZID=Europe/Berlin:20240526T140000
DTEND;TZID=Europe/Berlin:20240526T140000
DTSTAMP:20260422T161105
CREATED:20240429T083244Z
LAST-MODIFIED:20240429T083244Z
UID:10330-1716732000-1716732000@eschenau.at
SUMMARY:1. NAKUKU FEST
DESCRIPTION:Programm:\n \nTeilnehmende Künstler:
URL:https://eschenau.at/veranstaltungen/1-nakuku-fest-6/
LOCATION:Villa Willixhofer\, Steubach 33\, Eschenau\, 3153
CATEGORIES:NAKUKU
ATTACH;FMTTYPE=image/jpeg:https://eschenau.at/wp-content/uploads/2023/11/Villa-Willixhofer.jpg
ORGANIZER;CN="NAKUKU":MAILTO:willixhofer@gmx.at
END:VEVENT
BEGIN:VEVENT
DTSTART;TZID=Europe/Berlin:20240530T090000
DTEND;TZID=Europe/Berlin:20240530T090000
DTSTAMP:20260422T161105
CREATED:20180228T074441Z
LAST-MODIFIED:20240527T075254Z
UID:2081-1717059600-1717059600@eschenau.at
SUMMARY:Fronleichnam und Frühschoppen der Musikkapelle Eschenau
DESCRIPTION:Fronleichnamsprozession der Pfarrkirche Eschenau \nanschließend Frühschoppen der Musikkapelle Eschenau am Gemeindevorplatz \n 
URL:https://eschenau.at/veranstaltungen/fronleichnam-fruehschoppen/
CATEGORIES:Musikkapelle Eschenau,Pfarre Eschenau
ATTACH;FMTTYPE=image/png:https://eschenau.at/wp-content/uploads/2022/01/Musikkapelle-neu-e1716529363428.png
END:VEVENT
END:VCALENDAR