BEGIN:VCALENDAR
VERSION:2.0
PRODID:-//Gemeinde Eschenau - ECPv6.15.20//NONSGML v1.0//EN
CALSCALE:GREGORIAN
METHOD:PUBLISH
X-WR-CALNAME:Gemeinde Eschenau
X-ORIGINAL-URL:https://eschenau.at
X-WR-CALDESC:Veranstaltungen für Gemeinde Eschenau
REFRESH-INTERVAL;VALUE=DURATION:PT1H
X-Robots-Tag:noindex
X-PUBLISHED-TTL:PT1H
BEGIN:VTIMEZONE
TZID:Europe/Berlin
BEGIN:DAYLIGHT
TZOFFSETFROM:+0100
TZOFFSETTO:+0200
TZNAME:CEST
DTSTART:20250330T010000
END:DAYLIGHT
BEGIN:STANDARD
TZOFFSETFROM:+0200
TZOFFSETTO:+0100
TZNAME:CET
DTSTART:20251026T010000
END:STANDARD
BEGIN:DAYLIGHT
TZOFFSETFROM:+0100
TZOFFSETTO:+0200
TZNAME:CEST
DTSTART:20260329T010000
END:DAYLIGHT
BEGIN:STANDARD
TZOFFSETFROM:+0200
TZOFFSETTO:+0100
TZNAME:CET
DTSTART:20261025T010000
END:STANDARD
BEGIN:DAYLIGHT
TZOFFSETFROM:+0100
TZOFFSETTO:+0200
TZNAME:CEST
DTSTART:20270328T010000
END:DAYLIGHT
BEGIN:STANDARD
TZOFFSETFROM:+0200
TZOFFSETTO:+0100
TZNAME:CET
DTSTART:20271031T010000
END:STANDARD
END:VTIMEZONE
BEGIN:VEVENT
DTSTART;TZID=Europe/Berlin:20260419T101500
DTEND;TZID=Europe/Berlin:20260419T101500
DTSTAMP:20260419T171524
CREATED:20260330T064243Z
LAST-MODIFIED:20260330T064451Z
UID:12019-1776593700-1776593700@eschenau.at
SUMMARY:Marterlwanderung
DESCRIPTION:
URL:https://eschenau.at/veranstaltungen/marterlwanderung/
CATEGORIES:Bauernbund Eschenau
ATTACH;FMTTYPE=image/jpeg:https://eschenau.at/wp-content/uploads/2018/02/Bauernbund-Logo.jpg
END:VEVENT
BEGIN:VEVENT
DTSTART;TZID=Europe/Berlin:20260420T100000
DTEND;TZID=Europe/Berlin:20260420T130000
DTSTAMP:20260419T171524
CREATED:20251014T123009Z
LAST-MODIFIED:20251014T123009Z
UID:13047-1776679200-1776690000@eschenau.at
SUMMARY:Sperr- und Sondermüll
DESCRIPTION:
URL:https://eschenau.at/veranstaltungen/sperr-und-sondermuell-26-3-2-2-2/
LOCATION:Sammelstelle in Rotheau\, Rotheau 33\, Eschenau\, Niederösterreich\, 3153\, Österreich
CATEGORIES:Sperr- und Sondermüll
ATTACH;FMTTYPE=image/jpeg:https://eschenau.at/wp-content/uploads/2020/04/wappen-e1765963503667.jpg
END:VEVENT
BEGIN:VEVENT
DTSTART;TZID=Europe/Berlin:20260422T130000
DTEND;TZID=Europe/Berlin:20260422T140000
DTSTAMP:20260419T171524
CREATED:20251014T115615Z
LAST-MODIFIED:20251014T115615Z
UID:12967-1776862800-1776866400@eschenau.at
SUMMARY:Mutterberatung
DESCRIPTION:
URL:https://eschenau.at/veranstaltungen/mutterberatung-26-2-2-2/
LOCATION:Gemeindeamt Eschenau\, Hauptplatz 1\, Eschenau\, 3153
CATEGORIES:Mutterberatung
ATTACH;FMTTYPE=image/jpeg:https://eschenau.at/wp-content/uploads/2020/04/wappen-e1765963503667.jpg
END:VEVENT
BEGIN:VEVENT
DTSTART;TZID=Europe/Berlin:20260426T103000
DTEND;TZID=Europe/Berlin:20260426T103000
DTSTAMP:20260419T171524
CREATED:20250330T061224Z
LAST-MODIFIED:20260330T061408Z
UID:12209-1777199400-1777199400@eschenau.at
SUMMARY:Baumblütenwanderung
DESCRIPTION:
URL:https://eschenau.at/veranstaltungen/baumbluetenwanderung-2/
LOCATION:Gemeindevorplatz\, Hauptplatz 1\, Eschenau\, NÖ\, 3153
CATEGORIES:Dorferneuerung
ATTACH;FMTTYPE=image/png:https://eschenau.at/wp-content/uploads/2018/02/Beitragsbild-Doern.png
END:VEVENT
END:VCALENDAR